BEGIN:VCALENDAR
VERSION:2.0
PRODID:-//https://3d.hcc.nl///NONSGML kigkonsult.se iCalcreator 2.10.15//
METHOD:PUBLISH
BEGIN:VEVENT
UID:20260421T184324CEST-6707JSlnuE@https://3d.hcc.nl/
DTSTAMP:20260421T164324Z
DESCRIPTION:Inloop en 3D Workshop \n* Ontwerpen met oa. Fusion360\n* Scanne
 n in 3D\n* Het gebruik van 3D printers\nJe kunt ook online aan deze fysiek
 e bijeenkomst deelnemen. De bijeenkomst is dan op de locatie te volgen.\nJ
 e kunt dan dinsdagavond tussen 19.00 en 19.30 uur inloggen met Jitsi\, ook
   voor vragen\, of ter kennismaking met hcc!3D. Online ga je dan naar:  ht
 tps://wij.hcc.nl/3D(Alleen toegang als je zichtbaar bent met voor- en acht
 ernaam. )   https://3d.hcc.nl/component/rseventspro/evenement/361-bijeenko
 mst-hcc-3d?Itemid=101
DTSTART:20260505T180000Z
DTEND:20260505T213000Z
LOCATION:NewTechPark (Vlijtseweg 148\, 7317 AK Apeldoorn)
SUMMARY:Bijeenkomst hcc!3D
URL:https://3d.hcc.nl/component/rseventspro/evenement/361-bijeenkomst-hcc-3
 d?Itemid=101
END:VEVENT
END:VCALENDAR
