BEGIN:VCALENDAR
VERSION:2.0
PRODID:-//https://3d.hcc.nl///NONSGML kigkonsult.se iCalcreator 2.10.15//
METHOD:PUBLISH
BEGIN:VEVENT
UID:20260421T153314CEST-9335PPVDhz@https://3d.hcc.nl/
DTSTAMP:20260421T133314Z
DESCRIPTION:Samen proberen we lessen voor 3D-printen door te nemen en onder
  de knie te krijgen https://3d.hcc.nl/agenda/evenement/340-3d-printen
DTSTART:20260421T180000Z
DTEND:20260421T200000Z
LOCATION:De Geseldonk (Cederhoutstraat 44\, 5706 XC Helmond)
SUMMARY:3D printen
URL:https://3d.hcc.nl/agenda/evenement/340-3d-printen
END:VEVENT
BEGIN:VEVENT
UID:20260421T153314CEST-9336S0fAhP@https://3d.hcc.nl/
DTSTAMP:20260421T133314Z
DESCRIPTION:Inloop en 3D Workshop \n* Ontwerpen met oa. Fusion360\n* Scanne
 n in 3D\n* Het gebruik van 3D printers\nJe kunt ook online aan deze fysiek
 e bijeenkomst deelnemen. De bijeenkomst is dan op de locatie te volgen.\nJ
 e kunt dan dinsdagavond tussen 19.00 en 19.30 uur inloggen met Jitsi\, ook
   voor vragen\, of ter kennismaking met hcc!3D. Online ga je dan naar:  ht
 tps://wij.hcc.nl/3D(Alleen toegang als je zichtbaar bent met voor- en acht
 ernaam. )   https://3d.hcc.nl/agenda/evenement/359-bijeenkomst-hcc-3d
DTSTART:20260421T170000Z
DTEND:20260421T203000Z
LOCATION:NewTechPark (Vlijtseweg 148\, 7317 AK Apeldoorn)
SUMMARY:Bijeenkomst hcc!3D
URL:https://3d.hcc.nl/agenda/evenement/359-bijeenkomst-hcc-3d
END:VEVENT
END:VCALENDAR
